BEGIN:VCALENDAR
VERSION:2.0
PRODID:DPCALENDAR
CALSCALE:GREGORIAN
X-WR-TIMEZONE:UTC
BEGIN:VEVENT
DTSTART;TZID=UTC:20260129T160000
DTEND;TZID=UTC:20260129T173000
UID:B28A9211-6A8D-415F-AF2E-7B2402DA9352
SUMMARY:SuSSN Meeting: Food 4-5.30pm (Recording)
CREATED:20260106T151840Z
DTSTAMP:20260106T151840Z
URL:https://www.youtube.com/watch?v=kDdluY63BwE
LAST-MODIFIED:20260224T110022Z
SEQUENCE:4218102
X-ACCESS:1
X-HITS:1
X-COLOR:8fc4d1
X-SHOW-END-TIME:0
END:VEVENT
BEGIN:VEVENT
DTSTART;TZID=UTC:20260310T160000
DTEND;TZID=UTC:20260310T173000
UID:CEE0DFE7-7543-4C10-9F89-AD14ED2AC0FC
SUMMARY:SuSSN Meeting: Transport
CREATED:20260106T161648Z
DTSTAMP:20260106T161648Z
URL:https://www.suffolksustainableschools.co.uk/news-events/calendar/sussn-meeting-transport
LAST-MODIFIED:20260106T161648Z
SEQUENCE:0
X-ACCESS:1
X-HITS:7
X-COLOR:8fc4d1
X-SHOW-END-TIME:1
END:VEVENT
BEGIN:VEVENT
DTSTART;TZID=UTC:20260622T090000
DTEND;TZID=UTC:20260622T160000
UID:0762D295-5E98-442E-835B-9680FFD73CED
SUMMARY:Sustainability in Education Conference 2026
CREATED:20260223T171424Z
DTSTAMP:20260223T171424Z
URL:https://www.eventbrite.co.uk/e/sustainability-in-education-conference-suffolk-and-norfolk-tickets-1658961200609?aff=oddtdtcreator
LAST-MODIFIED:20260223T171424Z
SEQUENCE:0
X-ACCESS:1
X-HITS:0
X-COLOR:8fc4d1
X-SHOW-END-TIME:1
END:VEVENT
END:VCALENDAR